BEGIN:VCALENDAR
VERSION:2.0
PRODID:-//White House of Music - ECPv6.15.16//NONSGML v1.0//EN
CALSCALE:GREGORIAN
METHOD:PUBLISH
X-WR-CALNAME:White House of Music
X-ORIGINAL-URL:https://whitehouseofmusic.com
X-WR-CALDESC:Events for White House of Music
REFRESH-INTERVAL;VALUE=DURATION:PT1H
X-Robots-Tag:noindex
X-PUBLISHED-TTL:PT1H
BEGIN:VTIMEZONE
TZID:America/Chicago
BEGIN:DAYLIGHT
TZOFFSETFROM:-0600
TZOFFSETTO:-0500
TZNAME:CDT
DTSTART:20240310T080000
END:DAYLIGHT
BEGIN:STANDARD
TZOFFSETFROM:-0500
TZOFFSETTO:-0600
TZNAME:CST
DTSTART:20241103T070000
END:STANDARD
BEGIN:DAYLIGHT
TZOFFSETFROM:-0600
TZOFFSETTO:-0500
TZNAME:CDT
DTSTART:20250309T080000
END:DAYLIGHT
BEGIN:STANDARD
TZOFFSETFROM:-0500
TZOFFSETTO:-0600
TZNAME:CST
DTSTART:20251102T070000
END:STANDARD
BEGIN:DAYLIGHT
TZOFFSETFROM:-0600
TZOFFSETTO:-0500
TZNAME:CDT
DTSTART:20260308T080000
END:DAYLIGHT
BEGIN:STANDARD
TZOFFSETFROM:-0500
TZOFFSETTO:-0600
TZNAME:CST
DTSTART:20261101T070000
END:STANDARD
BEGIN:DAYLIGHT
TZOFFSETFROM:-0600
TZOFFSETTO:-0500
TZNAME:CDT
DTSTART:20270314T080000
END:DAYLIGHT
BEGIN:STANDARD
TZOFFSETFROM:-0500
TZOFFSETTO:-0600
TZNAME:CST
DTSTART:20271107T070000
END:STANDARD
END:VTIMEZONE
BEGIN:VEVENT
DTSTART;VALUE=DATE:20251001
DTEND;VALUE=DATE:20260106
DTSTAMP:20260421T043630
CREATED:20251022T171338Z
LAST-MODIFIED:20251103T163144Z
UID:10206-1759276800-1767657599@whitehouseofmusic.com
SUMMARY:Unwrap Expression - Yamaha Wind & String Rebates 2025
DESCRIPTION:Yamaha Band and String – $50\, $100\, $200 Rebate on Select Models!\nGive the Gift of Music! \nThe holiday season is a great time to commit to your musical future. Get up to $200 back on qualifying models! \nNow through January 5th\, 2026\, save up to $200 on the purchase of a new Yamaha Wind Instrument. \n \nRebate Instruction Sheet \nQualifying Rebate Models
URL:https://whitehouseofmusic.com/event/unwrap-expression-yamaha-rebates-2025/
LOCATION:Any White House of Music Location
END:VEVENT
BEGIN:VEVENT
DTSTART;TZID=America/Chicago:20251015T140000
DTEND;TZID=America/Chicago:20251015T150000
DTSTAMP:20260421T043630
CREATED:20250103T154924Z
LAST-MODIFIED:20251009T144543Z
UID:9711-1760536800-1760540400@whitehouseofmusic.com
SUMMARY:New Horizons Band - Concert
DESCRIPTION:New Horizons Band Concert at St. Camillus 2PM
URL:https://whitehouseofmusic.com/event/new-horizons-band-rehearsal-2025-10-15/
LOCATION:10101 W Wisconsin Ave\, Milwaukee\, WI 53226\, 10101 W Wisconsin Ave\, Milwaukee\, United States
ATTACH;FMTTYPE=image/png:https://whitehouseofmusic.com/wp-content/uploads/new-horizons-band.png
GEO:43.037654;-88.0390597
X-APPLE-STRUCTURED-LOCATION;VALUE=URI;X-ADDRESS=10101 W Wisconsin Ave Milwaukee WI 53226 10101 W Wisconsin Ave Milwaukee United States;X-APPLE-RADIUS=500;X-TITLE=10101 W Wisconsin Ave:geo:-88.0390597,43.037654
END:VEVENT
END:VCALENDAR