BEGIN:VCALENDAR
VERSION:2.0
PRODID:-//White House of Music - ECPv6.15.16//NONSGML v1.0//EN
CALSCALE:GREGORIAN
METHOD:PUBLISH
X-WR-CALNAME:White House of Music
X-ORIGINAL-URL:https://whitehouseofmusic.com
X-WR-CALDESC:Events for White House of Music
REFRESH-INTERVAL;VALUE=DURATION:PT1H
X-Robots-Tag:noindex
X-PUBLISHED-TTL:PT1H
BEGIN:VTIMEZONE
TZID:America/Chicago
BEGIN:DAYLIGHT
TZOFFSETFROM:-0600
TZOFFSETTO:-0500
TZNAME:CDT
DTSTART:20230312T080000
END:DAYLIGHT
BEGIN:STANDARD
TZOFFSETFROM:-0500
TZOFFSETTO:-0600
TZNAME:CST
DTSTART:20231105T070000
END:STANDARD
BEGIN:DAYLIGHT
TZOFFSETFROM:-0600
TZOFFSETTO:-0500
TZNAME:CDT
DTSTART:20240310T080000
END:DAYLIGHT
BEGIN:STANDARD
TZOFFSETFROM:-0500
TZOFFSETTO:-0600
TZNAME:CST
DTSTART:20241103T070000
END:STANDARD
BEGIN:DAYLIGHT
TZOFFSETFROM:-0600
TZOFFSETTO:-0500
TZNAME:CDT
DTSTART:20250309T080000
END:DAYLIGHT
BEGIN:STANDARD
TZOFFSETFROM:-0500
TZOFFSETTO:-0600
TZNAME:CST
DTSTART:20251102T070000
END:STANDARD
BEGIN:DAYLIGHT
TZOFFSETFROM:-0600
TZOFFSETTO:-0500
TZNAME:CDT
DTSTART:20260308T080000
END:DAYLIGHT
BEGIN:STANDARD
TZOFFSETFROM:-0500
TZOFFSETTO:-0600
TZNAME:CST
DTSTART:20261101T070000
END:STANDARD
END:VTIMEZONE
BEGIN:VEVENT
DTSTART;TZID=America/Chicago:20241031T080000
DTEND;TZID=America/Chicago:20250106T170000
DTSTAMP:20260425T102643
CREATED:20241011T142017Z
LAST-MODIFIED:20241112T160651Z
UID:9457-1730361600-1736182800@whitehouseofmusic.com
SUMMARY:Yamaha Holiday Promotions
DESCRIPTION:  \n\n\nYamaha Music Presents its Holiday Specials\n$50 or $100 Rebate on Select Wind & Strings Instruments\n\n\nGive the Gift of Music! \nThe holiday season is a great time to commit to your musical future. Get up to $100 back on qualifying models! \nNow through January 6th\, 2024\, save up to $100 on the purchase of a new Yamaha Wind Instrument. \nYamaha Qualifying Models for Band Rebate \nYamaha Qualifying Models for Orchestra Rebate \nRebate Instruction Sheet \n  \n \nThey Have a Gift. Help Them Open it.\nYamaha Piano Promotion: From January 6th\, 2025\, take advantage of 0% financing for 18 months on select Yamaha Clavinovas and Avant Grands! \nMake this holiday season a time your loved ones will always treasure by giving them something they’ll never forget: the gift of music. \nWe invite you to visit one of our four stores to learn more about this holiday deal available through the end of the year. \n**Subject to credit approval. Monthly payments of $55.56 per $1\,000 borrowed for 18 months at 0% APR. On Purchases of new and in-stock qualifying Yamaha Pianos from October 31\, 2023 to January 6\, 2024.** \nYamaha Hybrid Piano\, AvantGrand\n\nN1X\nN2\nN3X\n\nYamaha Clavinova Piano\n\n\n\nCLP-725 Matte Black\, Rosewood\nCLP-735 Dark Walnut\, Rosewood\nCLP-745 Dark Walnut\, Rosewood\nCLP-785 Matte Black\nCSP-150 Tablet Controlled Smart Piano\, Matte Black\nCVP-701 Black\nCLP- 825 Matte Black\, Rosewood\nCLP- 835 Matte Black\, Rosewood\nCLP – 845 Matte Black\, Rosewood\nCLP – 875 Matte Black\nCLP – 885 Matte Black\n\n\n\n 
URL:https://whitehouseofmusic.com/event/yamaha-holiday-promotions/
LOCATION:White House of Music\, 2101 Springdale Road\, Waukesha\, WI\, 53186\, United States
GEO:43.030355;-88.185244
X-APPLE-STRUCTURED-LOCATION;VALUE=URI;X-ADDRESS=White House of Music 2101 Springdale Road Waukesha WI 53186 United States;X-APPLE-RADIUS=500;X-TITLE=2101 Springdale Road:geo:-88.185244,43.030355
END:VEVENT
BEGIN:VEVENT
DTSTART;TZID=America/Chicago:20241106T101500
DTEND;TZID=America/Chicago:20241106T120000
DTSTAMP:20260425T102643
CREATED:20220918T171137Z
LAST-MODIFIED:20241104T142628Z
UID:9439-1730888100-1730894400@whitehouseofmusic.com
SUMMARY:New Horizons Band Rehearsal
DESCRIPTION:New Horizons Band Rehearsal at the White House of Music\, Waukesha.
URL:https://whitehouseofmusic.com/event/new-horizons-band-rehearsal-89/2024-11-06/
LOCATION:White House of Music Recital Hall\, White House of Music Recital Hall
ATTACH;FMTTYPE=image/png:https://whitehouseofmusic.com/wp-content/uploads/new-horizons-band.png
GEO:43.0302778;-88.1852778
X-APPLE-STRUCTURED-LOCATION;VALUE=URI;X-ADDRESS=White House of Music Recital Hall White House of Music Recital Hall;X-APPLE-RADIUS=500;X-TITLE=White House of Music Recital Hall:geo:-88.1852778,43.0302778
END:VEVENT
END:VCALENDAR