BEGIN:VCALENDAR
VERSION:2.0
PRODID:-//White House of Music - ECPv6.15.16//NONSGML v1.0//EN
CALSCALE:GREGORIAN
METHOD:PUBLISH
X-WR-CALNAME:White House of Music
X-ORIGINAL-URL:https://whitehouseofmusic.com
X-WR-CALDESC:Events for White House of Music
REFRESH-INTERVAL;VALUE=DURATION:PT1H
X-Robots-Tag:noindex
X-PUBLISHED-TTL:PT1H
BEGIN:VTIMEZONE
TZID:America/Chicago
BEGIN:DAYLIGHT
TZOFFSETFROM:-0600
TZOFFSETTO:-0500
TZNAME:CDT
DTSTART:20230312T080000
END:DAYLIGHT
BEGIN:STANDARD
TZOFFSETFROM:-0500
TZOFFSETTO:-0600
TZNAME:CST
DTSTART:20231105T070000
END:STANDARD
BEGIN:DAYLIGHT
TZOFFSETFROM:-0600
TZOFFSETTO:-0500
TZNAME:CDT
DTSTART:20240310T080000
END:DAYLIGHT
BEGIN:STANDARD
TZOFFSETFROM:-0500
TZOFFSETTO:-0600
TZNAME:CST
DTSTART:20241103T070000
END:STANDARD
BEGIN:DAYLIGHT
TZOFFSETFROM:-0600
TZOFFSETTO:-0500
TZNAME:CDT
DTSTART:20250309T080000
END:DAYLIGHT
BEGIN:STANDARD
TZOFFSETFROM:-0500
TZOFFSETTO:-0600
TZNAME:CST
DTSTART:20251102T070000
END:STANDARD
END:VTIMEZONE
BEGIN:VEVENT
DTSTART;TZID=America/Chicago:20240320T103000
DTEND;TZID=America/Chicago:20240320T120000
DTSTAMP:20260422T043116
CREATED:20220320T171141Z
LAST-MODIFIED:20220922T171133Z
UID:8105-1710930600-1710936000@whitehouseofmusic.com
SUMMARY:New Horizons Band Rehearsal
DESCRIPTION:
URL:https://whitehouseofmusic.com/event/new-horizons-band-rehearsal-63/
LOCATION:White House of Music Recital Hall\, White House of Music Recital Hall
GEO:43.0302778;-88.1852778
X-APPLE-STRUCTURED-LOCATION;VALUE=URI;X-ADDRESS=White House of Music Recital Hall White House of Music Recital Hall;X-APPLE-RADIUS=500;X-TITLE=White House of Music Recital Hall:geo:-88.1852778,43.0302778
END:VEVENT
BEGIN:VEVENT
DTSTART;TZID=America/Chicago:20240321T184500
DTEND;TZID=America/Chicago:20240321T200000
DTSTAMP:20260422T043116
CREATED:20231221T224611Z
LAST-MODIFIED:20240103T185849Z
UID:9103-1711046700-1711051200@whitehouseofmusic.com
SUMMARY:Get Uke’d – Ukulele Strum-Along & Learning Session
DESCRIPTION:Join White House of Music For Get Uke’d: We’ll strum a wide variety of pop\, rock\, blues\, broadway\, motown\, bluegrass\, country\, and fun novelty tunes with Uke Master Davey Harrison! \nWe encourage people of all ages to attend\, making it a great family night activity! \nOur Get Uke’d events are hosted by Lil Rev in our Waukesha location. \nWhether you are looking for a fun group event\, a way to enjoy music without a major commitment\, or just want to try something new as a family\, Get Uke’d is perfect for you! \n\nLearn basic chords and strum patterns\nPerform familiar and fun songs\nJoin people of all ages and experience levels\nShare music provided by the White House of Music\nBring your own ukulele or borrow one of ours\n\nNo experience is necessary\, but registration is required! Reserve your spot in this fun\, interactive group class today!
URL:https://whitehouseofmusic.com/event/get-uked-ukulele-strum-along-learning-session-3/
LOCATION:White House of Music\, 2101 N Springdale Rd\, Waukesha\, WI 53186\, USA\, White House of Music\, 2101 N Springdale Rd\, Waukesha\, WI 53186\, USA
GEO:43.0302845;-88.1852629
X-APPLE-STRUCTURED-LOCATION;VALUE=URI;X-ADDRESS=White House of Music 2101 N Springdale Rd Waukesha WI 53186 USA White House of Music 2101 N Springdale Rd Waukesha WI 53186 USA;X-APPLE-RADIUS=500;X-TITLE=White House of Music\, 2101 N Springdale Rd\, Waukesha\, WI 53186\, USA:geo:-88.1852629,43.0302845
END:VEVENT
BEGIN:VEVENT
DTSTART;TZID=America/Chicago:20240327T103000
DTEND;TZID=America/Chicago:20240327T120000
DTSTAMP:20260422T043116
CREATED:20220327T171242Z
LAST-MODIFIED:20220922T171133Z
UID:8135-1711535400-1711540800@whitehouseofmusic.com
SUMMARY:New Horizons Band Rehearsal
DESCRIPTION:
URL:https://whitehouseofmusic.com/event/new-horizons-band-rehearsal-64/
LOCATION:White House of Music Recital Hall\, White House of Music Recital Hall
GEO:43.0302778;-88.1852778
X-APPLE-STRUCTURED-LOCATION;VALUE=URI;X-ADDRESS=White House of Music Recital Hall White House of Music Recital Hall;X-APPLE-RADIUS=500;X-TITLE=White House of Music Recital Hall:geo:-88.1852778,43.0302778
END:VEVENT
BEGIN:VEVENT
DTSTART;TZID=America/Chicago:20240403T103000
DTEND;TZID=America/Chicago:20240403T120000
DTSTAMP:20260422T043116
CREATED:20220403T171135Z
LAST-MODIFIED:20220922T171133Z
UID:8156-1712140200-1712145600@whitehouseofmusic.com
SUMMARY:New Horizons Band Rehearsal
DESCRIPTION:
URL:https://whitehouseofmusic.com/event/new-horizons-band-rehearsal-65/
LOCATION:White House of Music Recital Hall\, White House of Music Recital Hall
GEO:43.0302778;-88.1852778
X-APPLE-STRUCTURED-LOCATION;VALUE=URI;X-ADDRESS=White House of Music Recital Hall White House of Music Recital Hall;X-APPLE-RADIUS=500;X-TITLE=White House of Music Recital Hall:geo:-88.1852778,43.0302778
END:VEVENT
BEGIN:VEVENT
DTSTART;TZID=America/Chicago:20240410T103000
DTEND;TZID=America/Chicago:20240410T120000
DTSTAMP:20260422T043116
CREATED:20220410T171140Z
LAST-MODIFIED:20220922T171133Z
UID:8172-1712745000-1712750400@whitehouseofmusic.com
SUMMARY:New Horizons Band Rehearsal
DESCRIPTION:
URL:https://whitehouseofmusic.com/event/new-horizons-band-rehearsal-66/
LOCATION:White House of Music Recital Hall\, White House of Music Recital Hall
GEO:43.0302778;-88.1852778
X-APPLE-STRUCTURED-LOCATION;VALUE=URI;X-ADDRESS=White House of Music Recital Hall White House of Music Recital Hall;X-APPLE-RADIUS=500;X-TITLE=White House of Music Recital Hall:geo:-88.1852778,43.0302778
END:VEVENT
BEGIN:VEVENT
DTSTART;TZID=America/Chicago:20240417T103000
DTEND;TZID=America/Chicago:20240417T120000
DTSTAMP:20260422T043116
CREATED:20220417T171509Z
LAST-MODIFIED:20220922T171133Z
UID:8188-1713349800-1713355200@whitehouseofmusic.com
SUMMARY:New Horizons Band Rehearsal
DESCRIPTION:
URL:https://whitehouseofmusic.com/event/new-horizons-band-rehearsal-67/
LOCATION:White House of Music Recital Hall\, White House of Music Recital Hall
GEO:43.0302778;-88.1852778
X-APPLE-STRUCTURED-LOCATION;VALUE=URI;X-ADDRESS=White House of Music Recital Hall White House of Music Recital Hall;X-APPLE-RADIUS=500;X-TITLE=White House of Music Recital Hall:geo:-88.1852778,43.0302778
END:VEVENT
BEGIN:VEVENT
DTSTART;TZID=America/Chicago:20240418T184500
DTEND;TZID=America/Chicago:20240418T200000
DTSTAMP:20260422T043116
CREATED:20231221T224954Z
LAST-MODIFIED:20240103T192545Z
UID:9105-1713465900-1713470400@whitehouseofmusic.com
SUMMARY:Get Uke’d – Ukulele Strum-Along & Learning Session
DESCRIPTION:Join White House of Music For Get Uke’d: We’ll strum a wide variety of pop\, rock\, blues\, broadway\, motown\, bluegrass\, country\, and fun novelty tunes with Uke Master Lil Rev \nWe encourage people of all ages to attend\, making it a great family night activity! \nOur Get Uke’d events are hosted by Lil Rev in our Waukesha location. \nWhether you are looking for a fun group event\, a way to enjoy music without a major commitment\, or just want to try something new as a family\, Get Uke’d is perfect for you! \n\nLearn basic chords and strum patterns\nPerform familiar and fun songs\nJoin people of all ages and experience levels\nShare music provided by the White House of Music\nBring your own ukulele or borrow one of ours\n\nNo experience is necessary\, but registration is required! Reserve your spot in this fun\, interactive group class today!
URL:https://whitehouseofmusic.com/event/get-uked-ukulele-strum-along-learning-session-4/
LOCATION:White House of Music\, 2101 N Springdale Rd\, Waukesha\, WI 53186\, USA\, White House of Music\, 2101 N Springdale Rd\, Waukesha\, WI 53186\, USA
GEO:43.0302845;-88.1852629
X-APPLE-STRUCTURED-LOCATION;VALUE=URI;X-ADDRESS=White House of Music 2101 N Springdale Rd Waukesha WI 53186 USA White House of Music 2101 N Springdale Rd Waukesha WI 53186 USA;X-APPLE-RADIUS=500;X-TITLE=White House of Music\, 2101 N Springdale Rd\, Waukesha\, WI 53186\, USA:geo:-88.1852629,43.0302845
END:VEVENT
BEGIN:VEVENT
DTSTART;TZID=America/Chicago:20240424T103000
DTEND;TZID=America/Chicago:20240424T120000
DTSTAMP:20260422T043116
CREATED:20220424T171210Z
LAST-MODIFIED:20220922T171133Z
UID:8223-1713954600-1713960000@whitehouseofmusic.com
SUMMARY:New Horizons Band Rehearsal
DESCRIPTION:
URL:https://whitehouseofmusic.com/event/new-horizons-band-rehearsal-68/
LOCATION:White House of Music Recital Hall\, White House of Music Recital Hall
GEO:43.0302778;-88.1852778
X-APPLE-STRUCTURED-LOCATION;VALUE=URI;X-ADDRESS=White House of Music Recital Hall White House of Music Recital Hall;X-APPLE-RADIUS=500;X-TITLE=White House of Music Recital Hall:geo:-88.1852778,43.0302778
END:VEVENT
BEGIN:VEVENT
DTSTART;TZID=America/Chicago:20240501T103000
DTEND;TZID=America/Chicago:20240501T120000
DTSTAMP:20260422T043116
CREATED:20220501T171131Z
LAST-MODIFIED:20220922T171133Z
UID:8243-1714559400-1714564800@whitehouseofmusic.com
SUMMARY:New Horizons Band Rehearsal
DESCRIPTION:
URL:https://whitehouseofmusic.com/event/new-horizons-band-rehearsal-69/
LOCATION:White House of Music Recital Hall\, White House of Music Recital Hall
GEO:43.0302778;-88.1852778
X-APPLE-STRUCTURED-LOCATION;VALUE=URI;X-ADDRESS=White House of Music Recital Hall White House of Music Recital Hall;X-APPLE-RADIUS=500;X-TITLE=White House of Music Recital Hall:geo:-88.1852778,43.0302778
END:VEVENT
BEGIN:VEVENT
DTSTART;TZID=America/Chicago:20240508T103000
DTEND;TZID=America/Chicago:20240508T120000
DTSTAMP:20260422T043116
CREATED:20220508T171320Z
LAST-MODIFIED:20220922T171133Z
UID:8270-1715164200-1715169600@whitehouseofmusic.com
SUMMARY:New Horizons Band Rehearsal
DESCRIPTION:
URL:https://whitehouseofmusic.com/event/new-horizons-band-rehearsal-70/
LOCATION:White House of Music Recital Hall\, White House of Music Recital Hall
GEO:43.0302778;-88.1852778
X-APPLE-STRUCTURED-LOCATION;VALUE=URI;X-ADDRESS=White House of Music Recital Hall White House of Music Recital Hall;X-APPLE-RADIUS=500;X-TITLE=White House of Music Recital Hall:geo:-88.1852778,43.0302778
END:VEVENT
BEGIN:VEVENT
DTSTART;TZID=America/Chicago:20240515T103000
DTEND;TZID=America/Chicago:20240515T120000
DTSTAMP:20260422T043116
CREATED:20220515T171511Z
LAST-MODIFIED:20220922T171133Z
UID:8295-1715769000-1715774400@whitehouseofmusic.com
SUMMARY:New Horizons Band Rehearsal
DESCRIPTION:
URL:https://whitehouseofmusic.com/event/new-horizons-band-rehearsal-71/
LOCATION:White House of Music Recital Hall\, White House of Music Recital Hall
GEO:43.0302778;-88.1852778
X-APPLE-STRUCTURED-LOCATION;VALUE=URI;X-ADDRESS=White House of Music Recital Hall White House of Music Recital Hall;X-APPLE-RADIUS=500;X-TITLE=White House of Music Recital Hall:geo:-88.1852778,43.0302778
END:VEVENT
BEGIN:VEVENT
DTSTART;TZID=America/Chicago:20240516T184500
DTEND;TZID=America/Chicago:20240516T200000
DTSTAMP:20260422T043116
CREATED:20231221T225318Z
LAST-MODIFIED:20240103T192631Z
UID:9107-1715885100-1715889600@whitehouseofmusic.com
SUMMARY:Get Uke’d – Ukulele Strum-Along & Learning Session
DESCRIPTION:Join White House of Music For Get Uke’d: We’ll strum a wide variety of pop\, rock\, blues\, broadway\, motown\, bluegrass\, country\, and fun novelty tunes with Uke Master Davey Harrison! \nWe encourage people of all ages to attend\, making it a great family night activity! \nOur Get Uke’d events are hosted by Lil Rev in our Waukesha location. \nWhether you are looking for a fun group event\, a way to enjoy music without a major commitment\, or just want to try something new as a family\, Get Uke’d is perfect for you! \n\nLearn basic chords and strum patterns\nPerform familiar and fun songs\nJoin people of all ages and experience levels\nShare music provided by the White House of Music\nBring your own ukulele or borrow one of ours\n\nNo experience is necessary\, but registration is required! Reserve your spot in this fun\, interactive group class today!
URL:https://whitehouseofmusic.com/event/get-uked-ukulele-strum-along-learning-session-5/
LOCATION:White House of Music\, 2101 N Springdale Rd\, Waukesha\, WI 53186\, USA\, White House of Music\, 2101 N Springdale Rd\, Waukesha\, WI 53186\, USA
GEO:43.0302845;-88.1852629
X-APPLE-STRUCTURED-LOCATION;VALUE=URI;X-ADDRESS=White House of Music 2101 N Springdale Rd Waukesha WI 53186 USA White House of Music 2101 N Springdale Rd Waukesha WI 53186 USA;X-APPLE-RADIUS=500;X-TITLE=White House of Music\, 2101 N Springdale Rd\, Waukesha\, WI 53186\, USA:geo:-88.1852629,43.0302845
END:VEVENT
BEGIN:VEVENT
DTSTART;TZID=America/Chicago:20240518T090000
DTEND;TZID=America/Chicago:20240518T100000
DTSTAMP:20260422T043116
CREATED:20240503T185330Z
LAST-MODIFIED:20240503T194655Z
UID:9264-1716022800-1716026400@whitehouseofmusic.com
SUMMARY:String Shoppe Talk with Roger & Regina
DESCRIPTION:String Shoppe Talk with Our String Repair Professionals Roger Girdaukas and Regina Schimke!\n”Tone\, playability\, and appearance.” \n  \nThis is a first-time event! Get a sneak peek of the processes all new string instruments go through in set-up to be ready for the customers on the floor. \nLearn all about the set-up and shop adjustment of each of our String Shoppe instruments that improves tone\, playability\, and appearance. \nAdditionally\, “Everything you need to know about new bows” will be discussed. From weight to options in fiberglass\, carbon fiber\, braided carbon fiber\, Brazilwood\, and Pernambuco. \n9:00 – Educator Coffee and Snacks \n9:30 – Presentation by our master repair staff\, Roger Girdaukas and Regina Schimke.
URL:https://whitehouseofmusic.com/event/string-shoppe-talk-with-roger-regina/
LOCATION:White House of Music\, 2101 N Springdale Rd\, Waukesha\, WI 53186\, USA\, White House of Music\, 2101 N Springdale Rd\, Waukesha\, WI 53186\, USA
CATEGORIES:Events
ATTACH;FMTTYPE=image/x-citrix-jpeg:https://whitehouseofmusic.com/wp-content/uploads/Music-For-Life.jpg
GEO:43.0302845;-88.1852629
X-APPLE-STRUCTURED-LOCATION;VALUE=URI;X-ADDRESS=White House of Music 2101 N Springdale Rd Waukesha WI 53186 USA White House of Music 2101 N Springdale Rd Waukesha WI 53186 USA;X-APPLE-RADIUS=500;X-TITLE=White House of Music\, 2101 N Springdale Rd\, Waukesha\, WI 53186\, USA:geo:-88.1852629,43.0302845
END:VEVENT
BEGIN:VEVENT
DTSTART;TZID=America/Chicago:20240522T103000
DTEND;TZID=America/Chicago:20240522T120000
DTSTAMP:20260422T043116
CREATED:20220522T171138Z
LAST-MODIFIED:20240520T175827Z
UID:8317-1716373800-1716379200@whitehouseofmusic.com
SUMMARY:New Horizons Band Rehearsal
DESCRIPTION:New Horizons Band Rehearsal at the Waukesha. White House of Music.
URL:https://whitehouseofmusic.com/event/new-horizons-band-rehearsal-72/
LOCATION:White House of Music Recital Hall\, White House of Music Recital Hall
ATTACH;FMTTYPE=image/png:https://whitehouseofmusic.com/wp-content/uploads/new-horizons-band.png
GEO:43.0302778;-88.1852778
X-APPLE-STRUCTURED-LOCATION;VALUE=URI;X-ADDRESS=White House of Music Recital Hall White House of Music Recital Hall;X-APPLE-RADIUS=500;X-TITLE=White House of Music Recital Hall:geo:-88.1852778,43.0302778
END:VEVENT
END:VCALENDAR