BEGIN:VCALENDAR
VERSION:2.0
PRODID:-//White House of Music - ECPv6.15.16//NONSGML v1.0//EN
CALSCALE:GREGORIAN
METHOD:PUBLISH
X-WR-CALNAME:White House of Music
X-ORIGINAL-URL:https://whitehouseofmusic.com
X-WR-CALDESC:Events for White House of Music
REFRESH-INTERVAL;VALUE=DURATION:PT1H
X-Robots-Tag:noindex
X-PUBLISHED-TTL:PT1H
BEGIN:VTIMEZONE
TZID:America/Chicago
BEGIN:DAYLIGHT
TZOFFSETFROM:-0600
TZOFFSETTO:-0500
TZNAME:CDT
DTSTART:20250309T080000
END:DAYLIGHT
BEGIN:STANDARD
TZOFFSETFROM:-0500
TZOFFSETTO:-0600
TZNAME:CST
DTSTART:20251102T070000
END:STANDARD
BEGIN:DAYLIGHT
TZOFFSETFROM:-0600
TZOFFSETTO:-0500
TZNAME:CDT
DTSTART:20260308T080000
END:DAYLIGHT
BEGIN:STANDARD
TZOFFSETFROM:-0500
TZOFFSETTO:-0600
TZNAME:CST
DTSTART:20261101T070000
END:STANDARD
BEGIN:DAYLIGHT
TZOFFSETFROM:-0600
TZOFFSETTO:-0500
TZNAME:CDT
DTSTART:20270314T080000
END:DAYLIGHT
BEGIN:STANDARD
TZOFFSETFROM:-0500
TZOFFSETTO:-0600
TZNAME:CST
DTSTART:20271107T070000
END:STANDARD
END:VTIMEZONE
BEGIN:VEVENT
DTSTART;VALUE=DATE:20260108
DTEND;VALUE=DATE:20260118
DTSTAMP:20260422T110654
CREATED:20260107T160922Z
LAST-MODIFIED:20260107T161547Z
UID:10353-1767830400-1768694399@whitehouseofmusic.com
SUMMARY:Annual String Days feat. Maple Leaf Strings - Waukesha
DESCRIPTION:Annual String Days feat. Maple Leaf Strings\nDon’t miss your chance to experience our Annual String Days\, January 8th–17th\, featuring Maple Leaf Strings! Step inside\, pick up and play a hand-selected violin\, viola\, or cello\, and discover the perfect instrument that inspires you. Our knowledgeable orchestra experts are ready to help you find your sound and answer all your questions. The event is free\, but these exceptional instruments are only here for a limited time—act now before they’re gone! Plus\, every string rental builds equity toward your very own orchestral string instrument. Visit the White House of Music String Shoppe in Waukesha and take your musical journey to the next level!
URL:https://whitehouseofmusic.com/event/annual-string-days-feat-maple-leaf-strings-waukesha/
LOCATION:White House of Music – String Shoppe\, 2101 Springdale Road\, Waukesha\, WI\, 53186\, United States
GEO:43.030355;-88.185244
X-APPLE-STRUCTURED-LOCATION;VALUE=URI;X-ADDRESS=White House of Music – String Shoppe 2101 Springdale Road Waukesha WI 53186 United States;X-APPLE-RADIUS=500;X-TITLE=2101 Springdale Road:geo:-88.185244,43.030355
END:VEVENT
END:VCALENDAR